BEGIN:VCALENDAR
PRODID:-//cheffinstimed10020//EN
VERSION:2.0
BEGIN:VEVENT
SUMMARY:Cheffins Timed: For The Wall: Timed Online Picture Sale
PRIORITY:0
CLASS:PUBLIC
DTSTART:20260410T150000Z
DTEND:20260427T184630Z
DESCRIPTION:
X-ALT-DESC;FMTTYPE=text/html:
LOCATION:Clifton House, 1-2 Clifton Road, Cambridge, CB1 7EA, United Kingdom
END:VEVENT
END:VCALENDAR