BEGIN:VCALENDAR
PRODID:-//cheffinstimed10021//EN
VERSION:2.0
BEGIN:VEVENT
SUMMARY:Cheffins Timed: Timed Online Silver Sale
PRIORITY:0
CLASS:PUBLIC
DTSTART:20260420T140000Z
DTEND:20260505T180030Z
DESCRIPTION:
X-ALT-DESC;FMTTYPE=text/html:
LOCATION:Clifton House, 1-2 Clifton Road, Cambridge, CB1 7EA, United Kingdom
END:VEVENT
END:VCALENDAR